Package: treeclimbR Version: 1.6.0 Command: /home/biocbuild/bbs-3.22-bioc/R/bin/R CMD INSTALL treeclimbR StartedAt: 2025-11-09 15:31:14 -0500 (Sun, 09 Nov 2025) EndedAt: 2025-11-09 15:31:51 -0500 (Sun, 09 Nov 2025) EllapsedTime: 37.2 seconds RetCode: 0 Status: OK