Package: treeclimbR Version: 1.6.0 Command: /home/biocbuild/bbs-3.22-bioc/R/bin/R CMD check --install=check:treeclimbR.install-out.txt --library=/home/biocbuild/bbs-3.22-bioc/R/site-library --timings treeclimbR_1.6.0.tar.gz StartedAt: 2025-11-11 05:15:32 -0500 (Tue, 11 Nov 2025) EndedAt: 2025-11-11 05:22:04 -0500 (Tue, 11 Nov 2025) EllapsedTime: 392.4 seconds RetCode: 0 Status: OK CheckDir: treeclimbR.Rcheck Warnings: 0