############################################################################## ############################################################################## ### ### Running command: ### ### /home/biocbuild/R/R/bin/R CMD build --keep-empty-dirs --no-resave-data traviz ### ############################################################################## ############################################################################## * checking for file ‘traviz/DESCRIPTION’ ... OK * preparing ‘traviz’: * checking DESCRIPTION meta-information ... OK * installing the package to build vignettes ----------------------------------- * installing *source* package ‘traviz’ ... ** this is package ‘traviz’ version ‘1.16.0’ ** using staged installation ** R Error in .install_package_code_files(".", instdir) : files in '/home/biocbuild/tmp/RtmpOBgSn6/Rbuild18e26987d01fa/traviz/R' missing from 'Collate' field: zzz.R ERROR: unable to collate and parse R files for package ‘traviz’ * removing ‘/home/biocbuild/tmp/RtmpOBgSn6/Rinst18e26958c5ee9f/traviz’ ----------------------------------- ERROR: package installation failed