Package: traviz Version: 1.16.0 Command: /Library/Frameworks/R.framework/Resources/bin/R CMD INSTALL traviz StartedAt: 2025-11-02 15:35:09 -0500 (Sun, 02 Nov 2025) EndedAt: 2025-11-02 15:35:10 -0500 (Sun, 02 Nov 2025) EllapsedTime: 1.5 seconds RetCode: 1 Status: ERROR