Package: traviz Version: 1.16.0 Command: /Library/Frameworks/R.framework/Resources/bin/R CMD build --keep-empty-dirs --no-resave-data traviz StartedAt: 2025-10-31 19:10:23 -0400 (Fri, 31 Oct 2025) EndedAt: 2025-10-31 19:10:26 -0400 (Fri, 31 Oct 2025) EllapsedTime: 2.3 seconds RetCode: 1 Status: ERROR PackageFile: None PackageFileSize: NA