Package: traseR Version: 1.39.0 Command: /home/biocbuild/R/R/bin/R CMD check --install=check:traseR.install-out.txt --library=/home/biocbuild/R/R/site-library --no-vignettes --timings traseR_1.39.0.tar.gz StartedAt: 2025-10-17 14:38:34 -0000 (Fri, 17 Oct 2025) EndedAt: 2025-10-17 14:44:40 -0000 (Fri, 17 Oct 2025) EllapsedTime: 366.0 seconds RetCode: 0 Status: OK CheckDir: traseR.Rcheck Warnings: 0