Package: traseR Version: 1.40.0 Command: /home/biocbuild/bbs-3.22-bioc/R/bin/R CMD INSTALL traseR StartedAt: 2025-11-06 15:36:22 -0500 (Thu, 06 Nov 2025) EndedAt: 2025-11-06 15:36:52 -0500 (Thu, 06 Nov 2025) EllapsedTime: 30.1 seconds RetCode: 0 Status: OK