Package: transmogR Version: 1.5.3 Command: /home/biocbuild/R/R/bin/R CMD INSTALL transmogR StartedAt: 2025-10-23 21:03:51 -0000 (Thu, 23 Oct 2025) EndedAt: 2025-10-23 21:04:42 -0000 (Thu, 23 Oct 2025) EllapsedTime: 50.8 seconds RetCode: 0 Status: OK