Package: transmogR Version: 1.5.2 Command: /home/biocbuild/R/R/bin/R CMD check --install=check:transmogR.install-out.txt --library=/home/biocbuild/R/R/site-library --no-vignettes --timings transmogR_1.5.2.tar.gz StartedAt: 2025-10-17 14:37:42 -0000 (Fri, 17 Oct 2025) EndedAt: 2025-10-17 14:45:38 -0000 (Fri, 17 Oct 2025) EllapsedTime: 476.3 seconds RetCode: 0 Status: OK CheckDir: transmogR.Rcheck Warnings: 0