Package: transmogR Version: 1.5.2 Command: /home/biocbuild/R/R/bin/R CMD build --keep-empty-dirs --no-resave-data transmogR StartedAt: 2025-10-21 03:50:19 -0000 (Tue, 21 Oct 2025) EndedAt: 2025-10-21 03:52:00 -0000 (Tue, 21 Oct 2025) EllapsedTime: 101.0 seconds RetCode: 0 Status: OK PackageFile: transmogR_1.5.2.tar.gz PackageFileSize: 585.7 KiB