Package: transite Version: 1.28.0 Command: /home/biocbuild/bbs-3.22-bioc/R/bin/R CMD INSTALL transite StartedAt: 2025-11-06 15:31:58 -0500 (Thu, 06 Nov 2025) EndedAt: 2025-11-06 15:32:20 -0500 (Thu, 06 Nov 2025) EllapsedTime: 22.6 seconds RetCode: 0 Status: OK