Package: transite Version: 1.28.0 Command: /home/biocbuild/bbs-3.22-bioc/R/bin/R CMD check --install=check:transite.install-out.txt --library=/home/biocbuild/bbs-3.22-bioc/R/site-library --timings transite_1.28.0.tar.gz StartedAt: 2025-11-07 04:59:24 -0500 (Fri, 07 Nov 2025) EndedAt: 2025-11-07 05:07:46 -0500 (Fri, 07 Nov 2025) EllapsedTime: 501.4 seconds RetCode: 0 Status: OK CheckDir: transite.Rcheck Warnings: 0