Package: transite Version: 1.28.0 Command: /home/biocbuild/bbs-3.22-bioc/R/bin/R CMD build --keep-empty-dirs --no-resave-data --md5 transite StartedAt: 2025-11-06 20:35:04 -0500 (Thu, 06 Nov 2025) EndedAt: 2025-11-06 20:35:40 -0500 (Thu, 06 Nov 2025) EllapsedTime: 36.0 seconds RetCode: 0 Status: OK PackageFile: transite_1.28.0.tar.gz PackageFileSize: 640.3 KiB