Package: transite Version: 1.28.0 Command: /Library/Frameworks/R.framework/Resources/bin/R CMD check --install=check:transite.install-out.txt --library=/Library/Frameworks/R.framework/Resources/library --no-vignettes --timings transite_1.28.0.tar.gz StartedAt: 2025-11-01 00:49:45 -0400 (Sat, 01 Nov 2025) EndedAt: 2025-11-01 00:59:46 -0400 (Sat, 01 Nov 2025) EllapsedTime: 601.3 seconds RetCode: 0 Status: OK CheckDir: transite.Rcheck Warnings: 0