Package: transite Version: 1.28.0 Command: /Library/Frameworks/R.framework/Resources/bin/R CMD build --keep-empty-dirs --no-resave-data transite StartedAt: 2025-11-02 19:10:02 -0500 (Sun, 02 Nov 2025) EndedAt: 2025-11-02 19:10:42 -0500 (Sun, 02 Nov 2025) EllapsedTime: 40.0 seconds RetCode: 0 Status: OK PackageFile: transite_1.28.0.tar.gz PackageFileSize: 640.5 KiB