Package: transite Version: 1.28.0 Command: rm -rf transite.buildbin-libdir && mkdir transite.buildbin-libdir && /Users/biocbuild/BBS/utils/build-universal.sh transite_1.28.0.tar.gz /Library/Frameworks/R.framework/Resources/bin/R transite.buildbin-libdir StartedAt: 2025-11-01 02:02:58 -0400 (Sat, 01 Nov 2025) EndedAt: 2025-11-01 02:03:34 -0400 (Sat, 01 Nov 2025) EllapsedTime: 35.6 seconds RetCode: 0 Status: OK PackageFile: transite_1.28.0.tgz PackageFileSize: 1.049 MiB