Package: transformGamPoi Version: 1.15.0 Command: /home/biocbuild/R/R/bin/R CMD build --keep-empty-dirs --no-resave-data transformGamPoi StartedAt: 2025-10-21 03:49:57 -0000 (Tue, 21 Oct 2025) EndedAt: 2025-10-21 03:50:59 -0000 (Tue, 21 Oct 2025) EllapsedTime: 62.0 seconds RetCode: 0 Status: OK PackageFile: transformGamPoi_1.15.0.tar.gz PackageFileSize: 541.7 KiB