Package: tradeSeq Version: 1.22.0 Command: /Library/Frameworks/R.framework/Resources/bin/R CMD INSTALL tradeSeq StartedAt: 2025-10-13 15:45:55 -0400 (Mon, 13 Oct 2025) EndedAt: 2025-10-13 15:47:12 -0400 (Mon, 13 Oct 2025) EllapsedTime: 77.3 seconds RetCode: 0 Status: OK