Package: tradeSeq Version: 1.22.0 Command: rm -rf tradeSeq.buildbin-libdir && mkdir tradeSeq.buildbin-libdir && /Users/biocbuild/BBS/utils/build-universal.sh tradeSeq_1.22.0.tar.gz /Library/Frameworks/R.framework/Resources/bin/R tradeSeq.buildbin-libdir StartedAt: 2025-10-14 14:59:06 -0400 (Tue, 14 Oct 2025) EndedAt: 2025-10-14 15:00:30 -0400 (Tue, 14 Oct 2025) EllapsedTime: 84.2 seconds RetCode: 0 Status: OK PackageFile: tradeSeq_1.22.0.tgz PackageFileSize: 5.528 MiB