Package: tradeSeq Version: 1.22.0 Command: /Library/Frameworks/R.framework/Resources/bin/R CMD check --install=check:tradeSeq.install-out.txt --library=/Library/Frameworks/R.framework/Resources/library --no-vignettes --timings tradeSeq_1.22.0.tar.gz StartedAt: 2025-04-22 00:09:16 -0400 (Tue, 22 Apr 2025) EndedAt: 2025-04-22 00:28:16 -0400 (Tue, 22 Apr 2025) EllapsedTime: 1140.0 seconds RetCode: 0 Status: OK CheckDir: tradeSeq.Rcheck Warnings: 0