Package: tradeSeq Version: 1.22.0 Command: /home/biocbuild/R/R/bin/R CMD INSTALL tradeSeq StartedAt: 2025-10-13 20:38:57 -0000 (Mon, 13 Oct 2025) EndedAt: 2025-10-13 20:39:42 -0000 (Mon, 13 Oct 2025) EllapsedTime: 44.9 seconds RetCode: 0 Status: OK