Package: tradeSeq Version: 1.22.0 Command: /home/biocbuild/R/R/bin/R CMD build --keep-empty-dirs --no-resave-data tradeSeq StartedAt: 2025-10-14 05:27:58 -0000 (Tue, 14 Oct 2025) EndedAt: 2025-10-14 05:38:46 -0000 (Tue, 14 Oct 2025) EllapsedTime: 648.6 seconds RetCode: 0 Status: OK PackageFile: tradeSeq_1.22.0.tar.gz PackageFileSize: 5.213 MiB