Package: topdownr Version: 1.30.0 Command: /home/biocbuild/bbs-3.21-bioc/R/bin/R CMD check --install=check:topdownr.install-out.txt --library=/home/biocbuild/bbs-3.21-bioc/R/site-library --timings topdownr_1.30.0.tar.gz StartedAt: 2025-10-16 04:28:49 -0400 (Thu, 16 Oct 2025) EndedAt: 2025-10-16 04:36:01 -0400 (Thu, 16 Oct 2025) EllapsedTime: 431.5 seconds RetCode: 0 Status: OK CheckDir: topdownr.Rcheck Warnings: 0