Package: topdownr Version: 1.30.0 Command: /home/biocbuild/bbs-3.21-bioc/R/bin/R CMD build --keep-empty-dirs --no-resave-data topdownr StartedAt: 2025-10-15 20:20:42 -0400 (Wed, 15 Oct 2025) EndedAt: 2025-10-15 20:22:10 -0400 (Wed, 15 Oct 2025) EllapsedTime: 88.1 seconds RetCode: 0 Status: OK PackageFile: topdownr_1.30.0.tar.gz PackageFileSize: 1.554 MiB