Package: topconfects Version: 1.25.0 Command: F:\biocbuild\bbs-3.22-bioc\R\bin\R.exe CMD check --no-multiarch --install=check:topconfects.install-out.txt --library=F:\biocbuild\bbs-3.22-bioc\R\library --no-vignettes --timings topconfects_1.25.0.tar.gz StartedAt: 2025-08-15 08:52:04 -0400 (Fri, 15 Aug 2025) EndedAt: 2025-08-15 08:53:50 -0400 (Fri, 15 Aug 2025) EllapsedTime: 106.5 seconds RetCode: 0 Status: OK CheckDir: topconfects.Rcheck Warnings: 0