Package: topconfects Version: 1.26.0 Command: /home/biocbuild/bbs-3.22-bioc/R/bin/R CMD build --keep-empty-dirs --no-resave-data --md5 topconfects StartedAt: 2025-11-06 20:33:21 -0500 (Thu, 06 Nov 2025) EndedAt: 2025-11-06 20:35:19 -0500 (Thu, 06 Nov 2025) EllapsedTime: 118.1 seconds RetCode: 0 Status: OK PackageFile: topconfects_1.26.0.tar.gz PackageFileSize: 3.601 MiB