Package: topconfects Version: 1.26.0 Command: /Library/Frameworks/R.framework/Resources/bin/R CMD build --keep-empty-dirs --no-resave-data topconfects StartedAt: 2025-11-02 19:08:46 -0500 (Sun, 02 Nov 2025) EndedAt: 2025-11-02 19:10:48 -0500 (Sun, 02 Nov 2025) EllapsedTime: 122.3 seconds RetCode: 0 Status: OK PackageFile: topconfects_1.26.0.tar.gz PackageFileSize: 2.544 MiB