Package: topconfects Version: 1.26.0 Command: rm -rf topconfects.buildbin-libdir && mkdir topconfects.buildbin-libdir && /Users/biocbuild/BBS/utils/build-universal.sh topconfects_1.26.0.tar.gz /Library/Frameworks/R.framework/Resources/bin/R topconfects.buildbin-libdir StartedAt: 2025-11-01 02:02:45 -0400 (Sat, 01 Nov 2025) EndedAt: 2025-11-01 02:02:56 -0400 (Sat, 01 Nov 2025) EllapsedTime: 10.6 seconds RetCode: 0 Status: OK PackageFile: topconfects_1.26.0.tgz PackageFileSize: 2.702 MiB