Package: topconfects Version: 1.26.0 Command: /Library/Frameworks/R.framework/Resources/bin/R CMD check --install=check:topconfects.install-out.txt --library=/Library/Frameworks/R.framework/Resources/library --no-vignettes --timings topconfects_1.26.0.tar.gz StartedAt: 2025-11-23 04:36:30 -0500 (Sun, 23 Nov 2025) EndedAt: 2025-11-23 04:38:55 -0500 (Sun, 23 Nov 2025) EllapsedTime: 144.1 seconds RetCode: 0 Status: OK CheckDir: topconfects.Rcheck Warnings: 0