Package: topconfects Version: 1.26.0 Command: /Library/Frameworks/R.framework/Resources/bin/R CMD build --keep-empty-dirs --no-resave-data topconfects StartedAt: 2025-11-21 12:33:38 -0500 (Fri, 21 Nov 2025) EndedAt: 2025-11-21 12:36:55 -0500 (Fri, 21 Nov 2025) EllapsedTime: 196.2 seconds RetCode: 0 Status: OK PackageFile: topconfects_1.26.0.tar.gz PackageFileSize: 2.544 MiB