Package: topGO Version: 2.60.1 Command: chmod a+r topGO -R && E:\biocbuild\bbs-3.21-bioc\R\bin\R.exe CMD build --keep-empty-dirs --no-resave-data topGO StartedAt: 2025-08-14 22:45:29 -0400 (Thu, 14 Aug 2025) EndedAt: 2025-08-14 22:48:44 -0400 (Thu, 14 Aug 2025) EllapsedTime: 194.5 seconds RetCode: 0 Status: OK PackageFile: topGO_2.60.1.tar.gz PackageFileSize: 1.69 MiB