Package: topGO Version: 2.60.1 Command: rm -rf topGO.buildbin-libdir && mkdir topGO.buildbin-libdir && E:\biocbuild\bbs-3.21-bioc\R\bin\R.exe CMD INSTALL --build --library=topGO.buildbin-libdir topGO_2.60.1.tar.gz StartedAt: 2025-08-15 10:30:14 -0400 (Fri, 15 Aug 2025) EndedAt: 2025-08-15 10:31:40 -0400 (Fri, 15 Aug 2025) EllapsedTime: 86.6 seconds RetCode: 0 Status: OK PackageFile: topGO_2.60.1.zip PackageFileSize: 1.94 MiB