Package: tomoda Version: 1.18.0 Command: /home/biocbuild/R/R/bin/R CMD INSTALL tomoda StartedAt: 2025-10-13 20:49:12 -0000 (Mon, 13 Oct 2025) EndedAt: 2025-10-13 20:49:45 -0000 (Mon, 13 Oct 2025) EllapsedTime: 33.6 seconds RetCode: 0 Status: OK