Package: tomoda Version: 1.18.0 Command: /home/biocbuild/R/R/bin/R CMD check --install=check:tomoda.install-out.txt --library=/home/biocbuild/R/R/site-library --no-vignettes --timings tomoda_1.18.0.tar.gz StartedAt: 2025-10-10 14:55:41 -0000 (Fri, 10 Oct 2025) EndedAt: 2025-10-10 15:04:42 -0000 (Fri, 10 Oct 2025) EllapsedTime: 540.8 seconds RetCode: 0 Status: OK CheckDir: tomoda.Rcheck Warnings: 0