Package: tomoda Version: 1.18.0 Command: /home/biocbuild/R/R/bin/R CMD build --keep-empty-dirs --no-resave-data tomoda StartedAt: 2025-10-14 05:25:52 -0000 (Tue, 14 Oct 2025) EndedAt: 2025-10-14 05:28:00 -0000 (Tue, 14 Oct 2025) EllapsedTime: 127.1 seconds RetCode: 0 Status: OK PackageFile: tomoda_1.18.0.tar.gz PackageFileSize: 2.764 MiB