Package: tigre Version: 1.62.0 Command: rm -rf tigre.buildbin-libdir && mkdir tigre.buildbin-libdir && /Users/biocbuild/BBS/utils/build-universal.sh tigre_1.62.0.tar.gz /Library/Frameworks/R.framework/Resources/bin/R tigre.buildbin-libdir StartedAt: 2025-10-15 20:51:18 -0400 (Wed, 15 Oct 2025) EndedAt: 2025-10-15 20:51:44 -0400 (Wed, 15 Oct 2025) EllapsedTime: 26.1 seconds RetCode: 0 Status: OK PackageFile: tigre_1.62.0.tgz PackageFileSize: 977.3 KiB