Package: tigre Version: 1.62.0 Maintainer: Antti Honkela MaintainerEmail: antti.honkela at helsinki.fi git_url: https://git.bioconductor.org/packages/tigre git_branch: RELEASE_3_21 git_last_commit: 1443c57 git_last_commit_date: 2025-04-15 09:59:09 -0400 (Tue, 15 Apr 2025)