Package: tidysbml Version: 1.3.0 Command: /home/biocbuild/R/R/bin/R CMD build --keep-empty-dirs --no-resave-data tidysbml StartedAt: 2025-10-21 03:43:56 -0000 (Tue, 21 Oct 2025) EndedAt: 2025-10-21 03:44:14 -0000 (Tue, 21 Oct 2025) EllapsedTime: 18.0 seconds RetCode: 0 Status: OK PackageFile: tidysbml_1.3.0.tar.gz PackageFileSize: 336.3 KiB