Package: tidysbml Version: 1.4.0 Command: /home/biocbuild/bbs-3.22-bioc/R/bin/R CMD INSTALL tidysbml StartedAt: 2025-11-06 15:04:10 -0500 (Thu, 06 Nov 2025) EndedAt: 2025-11-06 15:04:31 -0500 (Thu, 06 Nov 2025) EllapsedTime: 21.2 seconds RetCode: 0 Status: OK