Package: tidysbml Version: 1.4.0 Command: /home/biocbuild/bbs-3.22-bioc/R/bin/R CMD build --keep-empty-dirs --no-resave-data --md5 tidysbml StartedAt: 2025-11-06 20:31:30 -0500 (Thu, 06 Nov 2025) EndedAt: 2025-11-06 20:31:44 -0500 (Thu, 06 Nov 2025) EllapsedTime: 14.0 seconds RetCode: 0 Status: OK PackageFile: tidysbml_1.4.0.tar.gz PackageFileSize: 307.3 KiB