Package: tidysbml Version: 1.4.0 Command: /Library/Frameworks/R.framework/Resources/bin/R CMD build --keep-empty-dirs --no-resave-data tidysbml StartedAt: 2025-11-03 19:05:02 -0500 (Mon, 03 Nov 2025) EndedAt: 2025-11-03 19:05:22 -0500 (Mon, 03 Nov 2025) EllapsedTime: 20.4 seconds RetCode: 0 Status: OK PackageFile: tidysbml_1.4.0.tar.gz PackageFileSize: 306.1 KiB