Package: tidySummarizedExperiment Version: 1.20.0 Command: /home/biocbuild/bbs-3.22-bioc/R/bin/R CMD INSTALL tidySummarizedExperiment StartedAt: 2025-11-06 15:34:44 -0500 (Thu, 06 Nov 2025) EndedAt: 2025-11-06 15:35:10 -0500 (Thu, 06 Nov 2025) EllapsedTime: 26.1 seconds RetCode: 0 Status: OK