Package: tidySummarizedExperiment Version: 1.20.0 Command: /home/biocbuild/bbs-3.22-bioc/R/bin/R CMD check --install=check:tidySummarizedExperiment.install-out.txt --library=/home/biocbuild/bbs-3.22-bioc/R/site-library --timings tidySummarizedExperiment_1.20.0.tar.gz StartedAt: 2025-11-07 04:52:14 -0500 (Fri, 07 Nov 2025) EndedAt: 2025-11-07 04:57:35 -0500 (Fri, 07 Nov 2025) EllapsedTime: 321.2 seconds RetCode: 0 Status: OK CheckDir: tidySummarizedExperiment.Rcheck Warnings: 0