Package: tidySummarizedExperiment Version: 1.20.0 Command: /home/biocbuild/bbs-3.22-bioc/R/bin/R CMD build --keep-empty-dirs --no-resave-data --md5 tidySummarizedExperiment StartedAt: 2025-11-06 20:31:39 -0500 (Thu, 06 Nov 2025) EndedAt: 2025-11-06 20:32:19 -0500 (Thu, 06 Nov 2025) EllapsedTime: 40.0 seconds RetCode: 0 Status: OK PackageFile: tidySummarizedExperiment_1.20.0.tar.gz PackageFileSize: 389.1 KiB