Package: tidySummarizedExperiment Version: 1.20.0 Command: /Library/Frameworks/R.framework/Resources/bin/R CMD INSTALL tidySummarizedExperiment StartedAt: 2025-11-03 15:36:48 -0500 (Mon, 03 Nov 2025) EndedAt: 2025-11-03 15:37:25 -0500 (Mon, 03 Nov 2025) EllapsedTime: 36.5 seconds RetCode: 0 Status: OK