Package: tidySummarizedExperiment Version: 1.20.0 Command: /Library/Frameworks/R.framework/Resources/bin/R CMD INSTALL tidySummarizedExperiment StartedAt: 2025-11-09 15:18:32 -0500 (Sun, 09 Nov 2025) EndedAt: 2025-11-09 15:18:42 -0500 (Sun, 09 Nov 2025) EllapsedTime: 10.7 seconds RetCode: 0 Status: OK