Package: tidyCoverage Version: 1.6.0 Command: /Library/Frameworks/R.framework/Resources/bin/R CMD INSTALL tidyCoverage StartedAt: 2025-11-09 15:16:22 -0500 (Sun, 09 Nov 2025) EndedAt: 2025-11-09 15:16:36 -0500 (Sun, 09 Nov 2025) EllapsedTime: 14.2 seconds RetCode: 0 Status: OK