Package: terraTCGAdata Version: 1.12.0 Command: chmod a+r terraTCGAdata -R && E:\biocbuild\bbs-3.21-bioc\R\bin\R.exe CMD build --keep-empty-dirs --no-resave-data terraTCGAdata StartedAt: 2025-08-14 22:41:37 -0400 (Thu, 14 Aug 2025) EndedAt: 2025-08-14 22:42:26 -0400 (Thu, 14 Aug 2025) EllapsedTime: 49.7 seconds RetCode: 0 Status: OK PackageFile: terraTCGAdata_1.12.0.tar.gz PackageFileSize: 234.2 KiB