Package: terraTCGAdata Version: 1.12.0 Command: rm -rf terraTCGAdata.buildbin-libdir && mkdir terraTCGAdata.buildbin-libdir && E:\biocbuild\bbs-3.21-bioc\R\bin\R.exe CMD INSTALL --build --library=terraTCGAdata.buildbin-libdir terraTCGAdata_1.12.0.tar.gz StartedAt: 2025-08-15 10:28:31 -0400 (Fri, 15 Aug 2025) EndedAt: 2025-08-15 10:29:20 -0400 (Fri, 15 Aug 2025) EllapsedTime: 49.1 seconds RetCode: 0 Status: OK PackageFile: terraTCGAdata_1.12.0.zip PackageFileSize: 278.1 KiB