Package: ternarynet Version: 1.52.0 Command: /Library/Frameworks/R.framework/Resources/bin/R CMD build --keep-empty-dirs --no-resave-data ternarynet StartedAt: 2025-09-29 23:12:30 -0400 (Mon, 29 Sep 2025) EndedAt: 2025-09-29 23:13:03 -0400 (Mon, 29 Sep 2025) EllapsedTime: 32.3 seconds RetCode: 0 Status: OK PackageFile: ternarynet_1.52.0.tar.gz PackageFileSize: 267.7 KiB